Workbook
Name \a: #REF!
Name \a: #REF!
Name \m: #REF!
Name \m: #REF!
Name \n: #REF!
Name \n: #REF!
Name \o: #REF!
Name \o: #REF!
Name ___r: управ.таблица!___r
Name ___r: [0]!___r
Name ___SP1: #REF!
Name ___SP1: #REF!
Name ___SP10: #REF!
Name ___SP10: #REF!
Name ___SP11: #REF!
Name ___SP11: #REF!
Name ___SP12: #REF!
Name ___SP12: #REF!
Name ___SP13: #REF!
Name ___SP13: #REF!
Name ___SP14: #REF!
Name ___SP14: #REF!
Name ___SP15: #REF!
Name ___SP15: #REF!
Name ___SP16: #REF!
Name ___SP16: #REF!
Name ___SP17: #REF!
Name ___SP17: #REF!
Name ___SP18: #REF!
Name ___SP18: #REF!
Name ___SP19: #REF!
Name ___SP19: #REF!
Name ___SP2: #REF!
Name ___SP2: #REF!
Name ___SP20: #REF!
Name ___SP20: #REF!
Name ___SP3: #REF!
Name ___SP3: #REF!
Name ___SP4: #REF!
Name ___SP4: #REF!
Name ___SP5: #REF!
Name ___SP5: #REF!
Name ___SP7: #REF!
Name ___SP7: #REF!
Name ___SP8: #REF!
Name ___SP8: #REF!
Name ___SP9: #REF!
Name ___SP9: #REF!
Name __r: управ.таблица!__r
Name __r: [0]!__r
Name __SP1: #REF!
Name __SP1: #REF!
Name __SP10: #REF!
Name __SP10: #REF!
Name __SP11: #REF!
Name __SP11: #REF!
Name __SP12: #REF!
Name __SP12: #REF!
Name __SP13: #REF!
Name __SP13: #REF!

Sheet Лист1
A2: № п/п | B2: Наименование ТСО | C2: ЛЭП всего в собственности и аренде | H2: из них ЛЭП соответсвуют критериям, присоединены к ПС/ТП, участвующих в критериях на 2025 должно быть не менее 300 км | Y2: В собственности ПС/ТП, МВА, либо аренде на 2025 должно быть не менее 150 МВА | AF2: Примечание
C3: Всего, км | D3: ЛЭП ВН, км | E3: ЛЭП СН1, км | F3: ЛЭП СН2, км | G3: ЛЭП НН, км | H3: Всего, км в критерии | I3: ЛЭП ВН, км | M3: ЛЭП СН1, км | Q3: ЛЭП СН2, км | U3: ЛЭП НН, км | Y3: Всего | Z3: без госрег, кад. Инж и стройки | AA3: госрег | AB3: по суду | AC3: стройка | AD3: кад.инж. | AE3: сумма гос.рег + кад.инж.+стройка
I4: с госрег | J4: по суду | K4: стройка | L4: с кад.инж | M4: с госрег | N4: по суду | O4: стройка | P4: с кад.инж | Q4: с госрег | R4: по суду | S4: стройка | T4: с кад.инж | U4: с госрег | V4: по суду | W4: стройка | X4: с кад.инж
A6: 9 | B6: КубЭСК | C6: =D6+E6+F6+G6 -> 163.082 | D6: 0 | E6: 0 | F6: 88.872 | G6: 74.21 | H6: =Q6+U6+R6+V6+S6+W6+T6+X6 -> 96.32 | I6: 0 | J6: 0 | K6: 0 | L6: 0 | M6: 0 | N6: 0 | O6: 0 | P6: 0 | Q6: 42.24 | R6: 0 | S6: 5.9 | T6: 0 | U6: 43.4 | V6: 0 | W6: 4.78 | X6: 0 | Y6: =Z6+AA6+AB6+AD6+AC6 -> 116.76 | Z6: =116.76-AA6 -> 77.12 | AA6: 39.64 | AE6: =AA6+AD6+AC6 -> 39.64 | AF6: Кошмелюк сказал, что активно занимаются имуществом Догмы (Кубаньсеть), акционеры сейчас решают на чьей базе объединиться (КЭСК или Кубаньсеть). Сказал почти со 100% уверенностью, что до 01.05 вопрос решится и критерии они пройдут.
A7: 9.1. | B7: - собственность | C7: =F7+G7 -> 124.622 | F7: =F6-F9 -> 62.502 | G7: =G6-G9 -> 62.12 | H7: =Q7+U7+R7+V7+S7+W7+T7+X7 -> 96.32 | Q7: 42.24 | R7: 0 | S7: 5.9 | T7: 0 | U7: 43.4 | V7: 0 | W7: 4.78 | X7: 0 | Y7: =Z7+AA7 -> 80.75 | Z7: =Y6-AA6-Z9 -> 41.11 | AA7: 39.64 | AE7: =AA7+AD7+AC7 -> 39.64
A8: 9.2. | B8: - аренда созависимая | C8: =F8+G8 -> 0
A9: 9.3. | B9: - прочая аренда | C9: =F9+G9 -> 38.46 | F9: 26.37 | G9: 12.09 | Y9: =Z9 -> 36.01 | Z9: 36.01
A11: 9 | B11: КубЭСК | C11: ='ВЛ и КЛ ТСО'!Y83+'ВЛ и КЛ ТСО'!Z83 -> 211.8466 | F11: ='ВЛ и КЛ ТСО'!Y83 -> 106.646 | G11: ='ВЛ и КЛ ТСО'!Z83 -> 105.2006 | H11: =Q11+U11+R11+V11+S11+W11+T11+X11 -> 27.383 | Q11: =SUM(Q12:Q14) -> 15.828 | R11: =SUM(R12:R14) -> 0 | S11: =SUM(S12:S14) -> 0 | T11: =SUM(T12:T14) -> 4.42 | U11: =SUM(U12:U14) -> 5.006 | V11: =SUM(V12:V14) -> 0 | W11: =SUM(W12:W14) -> 0 | X11: =SUM(X12:X14) -> 2.129 | Y11: =Z11+AA11+AB11+AD11+AC11 -> 116.76 | Z11: =SUM(Z12:Z14) -> 43.64 | AA11: =SUM(AA12:AA14) -> 46.24 | AB11: =SUM(AB12:AB14) -> 0 | AC11: =SUM(AC12:AC14) -> 0 | AD11: =SUM(AD12:AD14) -> 26.88 | AE11: =SUM(AE12:AE14) -> 47.86
A12: 9.1. | B12: - собственность | C12: =F12+G12 -> 148.551 | F12: 69.58 | G12: 78.971 | H12: =Q12+U12+R12+V12+S12+W12+T12+X12 -> 27.383 | Q12: 15.828 | T12: 4.42 | U12: =4.82+0.186 -> 5.006 | X12: 2.129 | Y12: =Z12+AA12+AD12 -> 49.37 | Z12: 1.51 | AA12: =46.24-7 -> 39.24 | AD12: 8.62 | AE12: =AA12+AD12+AC12 -> 47.86
A13: 9.2. | B13: - аренда созависимая | C13: =F13+G13 -> 0 | H13: =Q13+U13+R13+V13+S13+W13+T13+X13 -> 0
A14: 9.3. | B14: - прочая аренда | C14: =F14+G14 -> 63.2956 | F14: =F11-F12 -> 37.066 | G14: =G11-G12 -> 26.2296 | H14: =Q14+U14+R14+V14+S14+W14+T14+X14 -> 0 | Y14: =Z14 -> 42.13 | Z14: =43.64-1.51 -> 42.13 | AA14: 7 | AD14: 18.26
Y17: 422 | Z17: 43.64
J19: =H11-'ВЛ и КЛ ТСО'!Y86-'ВЛ и КЛ ТСО'!Z86 -> -184.4636

Sheet Подстанции ТСО
A1: Наименование организации: ООО "Кубанская электросетевая компания" | Q1: Приложение 1
A2: ИНН: 2309135367 | H2: КПП: 231001001
A3: Выделенный абонентский номер для обращений потребителей услуг по передаче электрической энергии и (или) технологическому присоединению: | H3: 8 (861) -299-10-10
A4: Официальный сайт в информационно-телекоммуникационной сети "Интернет": | H4: https://kubseti.ru/
A5: Информация по трансформаторным подстанциям в административных границах Краснодарский область (край)
A6: Диспетчерское наименование | B6: Инвентарный номер ПС (ТП) | C6: Диспетчерское наименование | D6: Номинальная мощность трансформаторов организации, Т-1 кВА | E6: Номинальная мощность трансформаторов организации, Т-2 кВА | F6: Силовой трансформатор или реактор (одно- или трехфазный), или вольтодобавочный трансформатор (трансформатор собственных нужд ТСН 1-20 на ПС 35 кВ и выше) шт. | H6: Тип трансформаторной подстанции (ПС, КТП, БКТП, ЗТП, мачтовая (столбовая) МТП) | I6: Максимальная мощность (разрешенная), МВт | J6: Место расположения | K6: Документ, подтверждающий владение трансформаторной подстанцией на праве собственности (реквизиты) | L6: Коммутационные аппараты | P6: Количество потребителей, энергоснабжение которых осуществляется ТСО (при наличии акта разграничения балансовой принадлежности или акта об осуществлении технологического присоединения)* | R6: Примечание
L7: Масляные, вакуумные, элегазовые выключатели | O7: Выключатели нагрузки | X7: номер ТП отражен
L8: 110 кВ | M8: 35 кВ | N8: 1-20 кВ | O8: 1-20 кВ | S8: Вопросы по однолинейным схемам | T8: Наличие однолинейных схем | U8: ЕГРН | V8: Заключение кадастрового инженера | W8: соответствие критериям (ДА/НЕТ) | X8: ДКП с ЕГРН или ЗКИ
A9: 1 | B9: 2 | C9: 3 | D9: 4 | E9: 5 | F9: 6 | G9: 7 | H9: 8 | I9: 9 | J9: 10 | K9: 11 | L9: 12 | M9: 13 | N9: 14 | O9: 15 | P9: 16 | Q9: 17 | R9: 18 | S9: 19 | V9: 22 | W9: 23 | X9: 24 | Y9: 25 | Z9: 26 | AA9: 27 | AB9: 28 | AC9: 29 | AD9: 30 | AE9: 31 | AF9: 32 | AG9: 33 | AH9: 34 | AI9: 35 | AJ9: 36 | AK9: 37 | AL9: 38 | AM9: 39 | AN9: 40 | AO9: 41 | AP9: 42 | AQ9: 43 | AR9: 44 | AS9: 45 | AT9: 46 | AU9: 47 | AV9: 48 | AW9: 49 | AX9: 50 | AY9: 51 | AZ9: 52 | BA9: 53
A10: 1 | B10: ХХ | C10: БКТП-2108п | D10: 1000 | E10: =D10 -> 1000 | F10: ХХ | H10: БКТП | I10: 13.463 | J10: г.Краснодар,, ЖК Немецкая деревня, ул. Гамбургская | K10: Договор купли-продажи от 01.07.2013 № 26-НД | L10: ДНП без номера ТП | N10: 2 | O10: 6 | P10: ХХ | W10: =IF(AND(T10="ДА",(IF(OR(U10="ДА",V10="ДА"),"ДА","НЕТ"))="ДА"),"ДА","НЕТ") -> НЕТ
A11: 2 | B11: ХХ | C11: БКТП-2106п | D11: 630 | E11: =D11 -> 630 | F11: ХХ | H11: БКТП | J11: г.Краснодар, ЖК Немецкая деревня, ул. Ганноверская | K11: Договор купли-продажи от 01.07.2013 № 26-НД | L11: ДНП без номера ТП | N11: 2 | O11: 6 | P11: ХХ | W11: =IF(AND(T11="ДА",(IF(OR(U11="ДА",V11="ДА"),"ДА","НЕТ"))="ДА"),"ДА","НЕТ") -> НЕТ
A12: 3 | B12: ХХ | C12: БКТП-2109п | D12: 1250 | E12: =D12 -> 1250 | F12: ХХ | H12: БКТП | J12: ЖК Немецкая деревня, ул. Баварская | K12: Договор купли-продажи от 01.07.2013 № 26-НД | L12: ДНП без номера ТП | N12: 2 | O12: 6 | P12: ХХ | W12: =IF(AND(T12="ДА",(IF(OR(U12="ДА",V12="ДА"),"ДА","НЕТ"))="ДА"),"ДА","НЕТ") -> НЕТ
A13: 4 | B13: ХХ | C13: БКТП-2107п | D13: 1000 | E13: =D13 -> 1000 | F13: ХХ | H13: БКТП | J13: г.Краснодар, ЖК Немецкая деревня, ул. Баден -Аллея | K13: Договор купли-продажи от 01.07.2013 № 26-НД | L13: ДНП без номера ТП | N13: 2 | O13: 6 | P13: ХХ | W13: =IF(AND(T13="ДА",(IF(OR(U13="ДА",V13="ДА"),"ДА","НЕТ"))="ДА"),"ДА","НЕТ") -> НЕТ
A14: 5 | B14: ХХ | C14: БКТП-2110п | D14: 1250 | E14: =D14 -> 1250 | F14: ХХ | H14: БКТП | J14: г.Краснодар, ЖК Немецкая деревня, ул. Гёте | K14: Договор купли-продажи от 01.07.2013 № 26-НД | L14: ДНП без номера ТП | N14: 2 | O14: 6 | P14: ХХ | W14: =IF(AND(T14="ДА",(IF(OR(U14="ДА",V14="ДА"),"ДА","НЕТ"))="ДА"),"ДА","НЕТ") -> НЕТ
A15: 6 | B15: ХХ | C15: БКТП-2105п | D15: 630 | E15: =D15 -> 630 | F15: ХХ | H15: БКТП | J15: г.Краснодар, ЖК Немецкая деревня, ул. Баварская - Баха | K15: Договор купли-продажи от 01.07.2013 № 26-НД | L15: ДНП без номера ТП | N15: 2 | O15: 6 | P15: ХХ | W15: =IF(AND(T15="ДА",(IF(OR(U15="ДА",V15="ДА"),"ДА","НЕТ"))="ДА"),"ДА","НЕТ") -> НЕТ
A16: 7 | B16: ХХ | C16: БРТП-2103п | D16: 1000 | E16: =D16 -> 1000 | F16: ХХ | H16: КТП | J16: г.Краснодар, ЖК Немецкая деревня, ул. Баварская | K16: Договор купли-продажи от 01.07.2013 № 26-НД | L16: ДНП без номера ТП | N16: 17 | O16: 0 | P16: ХХ | R16: Выписка из ЕГРН, кадастровый номер: 23:43:0107001:46341 | S16: 44900 | U16: ДА | W16: =IF(AND(T16="ДА",(IF(OR(U16="ДА",V16="ДА"),"ДА","НЕТ"))="ДА"),"ДА","НЕТ") -> НЕТ
A17: 8 | B17: ХХ | C17: КТП-2476п | D17: 400 | E17: =D17 -> 400 | F17: ХХ | H17: КТП | J17: г.Краснодар, ЖК Немецкая деревня, ул. Венецианская | K17: Договор купли-продажи от 30.11.2015 № 22/15/839 | N17: 0 | O17: 4 | P17: ХХ | W17: =IF(AND(T17="ДА",(IF(OR(U17="ДА",V17="ДА"),"ДА","НЕТ"))="ДА"),"ДА","НЕТ") -> НЕТ
A18: 9 | B18: ХХ | C18: КТП-2456п | D18: 1000 | E18: =D18 -> 1000 | F18: ХХ | H18: КТП | J18: г.Краснодар, ЖК Немецкая деревня, ул. Венецианская | K18: Договор купли-продажи от 15.09.2016 №1 | N18: 2 | O18: 4 | P18: ХХ | W18: =IF(AND(T18="ДА",(IF(OR(U18="ДА",V18="ДА"),"ДА","НЕТ"))="ДА"),"ДА","НЕТ") -> НЕТ
A19: 10 | B19: ХХ | C19: КТП-2457п | D19: 1000 | E19: =D19 -> 1000 | F19: ХХ | H19: КТП | J19: г.Краснодар, ЖК Немецкая деревня, ул. Венецианская,14 | K19: Договор купли-продажи от 01.12.2016 №6/12 | N19: 2 | O19: 4 | P19: ХХ | W19: =IF(AND(T19="ДА",(IF(OR(U19="ДА",V19="ДА"),"ДА","НЕТ"))="ДА"),"ДА","НЕТ") -> НЕТ
A20: 11 | B20: ХХ | C20: ТП-2431п | D20: 400 | E20: =D20 -> 400 | F20: ХХ | H20: ТП | J20: г.Краснодар, ЖК Казанский, ул. Восточная | K20: Договор купли-продажи от 30.11.2015 № 22/15/839 | N20: 0 | O20: 12 | P20: ХХ | R20: Выписка из ЕГРН, кадастровый номер: 23:43:0106012:16232 | S20: 44901 | U20: ДА | W20: =IF(AND(T20="ДА",(IF(OR(U20="ДА",V20="ДА"),"ДА","НЕТ"))="ДА"),"ДА","НЕТ") -> НЕТ
A21: 12 | B21: ХХ | C21: КТП-2730п | D21: 1000 | E21: =D21 -> 1000 | F21: ХХ | H21: КТП | J21: г.Краснодар, ЖК Немецкая деревня, ул. Античная | K21: Договор купли-продажи от 01.12.2016 № 7/12 | N21: 2 | O21: 4 | P21: ХХ | R21: Заключение кадастрового инженера от 08.04.2024г. | V21: ДА | W21: =IF(AND(T21="ДА",(IF(OR(U21="ДА",V21="ДА"),"ДА","НЕТ"))="ДА"),"ДА","НЕТ") -> НЕТ
A22: 13 | B22: ХХ | C22: 2КТП-2962п | D22: 1000 | E22: =D22 -> 1000 | F22: ХХ | H22: КТП | J22: г.Краснодар, ЖК "Модеград 2", ул. Западный обход, 39/1 | K22: Договор купли-продажи от 26.07.2019 № 719-2/ЕД | N22: 2 | O22: 4 | P22: ХХ | R22: Выписка из ЕГРН, кадастровый номер: 23:43:0106012:16224 | S22: 44882 | U22: ДА | W22: =IF(AND(T22="ДА",(IF(OR(U22="ДА",V22="ДА"),"ДА","НЕТ"))="ДА"),"ДА","НЕТ") -> НЕТ
A23: 14 | B23: ХХ | C23: 2КТП-2699п | D23: 400 | E23: =D23 -> 400 | F23: ХХ | H23: КТП | J23: г.Краснодар, ЖК Немецкая деревня, ул. Карлсруэвского, 3/2 | K23: Договор купли-продажи от 01.08.2019 б/н | N23: 0 | O23: 4 | P23: ХХ | R23: Выписка из ЕГРН кадастровый номер 23:43:0107001:46534 | S23: 45043 | U23: ДА | W23: =IF(AND(T23="ДА",(IF(OR(U23="ДА",V23="ДА"),"ДА","НЕТ"))="ДА"),"ДА","НЕТ") -> НЕТ
A24: 15 | B24: ХХ | C24: 2КТП-2700п | D24: 400 | E24: =D24 -> 400 | F24: ХХ | H24: КТП | J24: г.Краснодар, ЖК Немецкая деревня, ул. Боннская, 8/2 | K24: Договор купли-продажи от 01.08.2019 б/н | N24: 0 | O24: 4 | P24: ХХ | R24: Выписка из ЕГРН кадастровый номер 23:43:0107001:46533 | S24: 45043 | U24: ДА | W24: =IF(AND(T24="ДА",(IF(OR(U24="ДА",V24="ДА"),"ДА","НЕТ"))="ДА"),"ДА","НЕТ") -> НЕТ
A25: 16 | B25: ХХ | C25: 2КТП-2701п | D25: 630 | E25: =D25 -> 630 | F25: ХХ | H25: КТП | J25: г.Краснодар, ЖК Италия, ул.Веронская | K25: Договор купли-продажи от 01.08.2019 б/н | N25: 0 | O25: 4 | P25: ХХ | R25: Выписка из ЕГРН, кадастровый номер: 23:43:0107001:41807 | S25: 45244 | U25: ДА | W25: =IF(AND(T25="ДА",(IF(OR(U25="ДА",V25="ДА"),"ДА","НЕТ"))="ДА"),"ДА","НЕТ") -> НЕТ
A26: 17 | B26: ХХ | C26: 2КТП 400 по ул.Шумана 2 (на схеме ТП-Германия 3) | D26: 400 | E26: =D26 -> 400 | F26: ХХ | H26: КТП | J26: г.Краснодар, ЖК Немецкая деревня | K26: Договор купли-продажи от 25.11.2019 № 21 | N26: 0 | O26: 4 | P26: ХХ | R26: Заключение кадастрового инженера от 08.04.2024г. | V26: ДА | W26: =IF(AND(T26="ДА",(IF(OR(U26="ДА",V26="ДА"),"ДА","НЕТ"))="ДА"),"ДА","НЕТ") -> НЕТ
A27: 18 | B27: ХХ | C27: 2КТП-3115п | D27: 400 | E27: =D27 -> 400 | F27: ХХ | H27: КТП | J27: г.Краснодар, ЖК Немецкая деревня | K27: Договор купли-продажи от 19.11.2019 б/н | N27: 0 | O27: 4 | P27: ХХ | R27: Заключение кадастрового инженера от 08.04.2024г. | V27: ДА | W27: =IF(AND(T27="ДА",(IF(OR(U27="ДА",V27="ДА"),"ДА","НЕТ"))="ДА"),"ДА","НЕТ") -> НЕТ
A28: 19 | B28: ХХ | C28: 2КТП-3116п | D28: 630 | E28: =D28 -> 630 | F28: ХХ | H28: КТП | J28: г.Краснодар, ЖК "Португалия", ул.Лиссабонская | K28: Договор купли-продажи от 25.11.2019 № 21 | N28: 0 | O28: 8 | P28: ХХ | R28: Заключение кадастрового инженера от 08.04.2024г. | V28: ДА | W28: =IF(AND(T28="ДА",(IF(OR(U28="ДА",V28="ДА"),"ДА","НЕТ"))="ДА"),"ДА","НЕТ") -> НЕТ
A29: 20 | B29: ХХ | C29: 2КТП- 3106п | D29: 1000 | E29: =D29 -> 1000 | F29: ХХ | H29: КТП | J29: г.Краснодар, ЖК "Модеград 1", Западный обход 39/1 | K29: Договор купли-продажи от 19.11.2019 б/н | L29: Договор купли-продажи от 19.11.2019 б/н | N29: 2 | O29: 4 | P29: ХХ | R29: Выписка из ЕГРН, кадастровый номер 23:43:0106012:6231 | S29: 45244 | U29: ДА | W29: =IF(AND(T29="ДА",(IF(OR(U29="ДА",V29="ДА"),"ДА","НЕТ"))="ДА"),"ДА","НЕТ") -> НЕТ
A30: 21 | B30: ХХ | C30: 2КТП-3107п | D30: 1000 | E30: =D30 -> 1000 | F30: ХХ | H30: КТП | J30: г.Краснодар, ЖК "Европа сити", ул.Античная | K30: Договор купли-продажи от 25.11.2019 №1-40864/2019 | N30: 2 | O30: 4 | P30: ХХ | R30: Выписка из ЕГРН, кадастровый номер: 23:43:0107001:40864 | S30: 45244 | U30: ДА | W30: =IF(AND(T30="ДА",(IF(OR(U30="ДА",V30="ДА"),"ДА","НЕТ"))="ДА"),"ДА","НЕТ") -> НЕТ
A31: 22 | B31: ХХ | C31: 2БКТП-3158п | D31: 1000 | E31: =D31 -> 1000 | F31: ХХ | H31: БКТП | J31: г.Краснодар, ул.М.Цветаевой 4 | K31: Разрешение Ростехнадзора на допуск в эксплуатацию энергоустановки от 05.02.2020 г. № 035-05/27 | N31: 6 | O31: 1 | P31: ХХ | R31: Заключение кадастрового инженера от 08.04.2024г. | S31: схема не читается, прислать скан заново | T31: НЕТ | V31: ДА | W31: =IF(AND(T31="ДА",(IF(OR(U31="ДА",V31="ДА"),"ДА","НЕТ"))="ДА"),"ДА","НЕТ") -> НЕТ
A32: 23 | B32: ХХ | C32: КТП-3024п | D32: 1000 | E32: =D32 -> 1000 | F32: ХХ | H32: КТП | J32: г.Краснодар, ЖК "Модеград 1", ул. Западный обход, 65 | K32: Договор купли-продажи от 30.09.2019 № 1-2966/2019 | N32: 2 | O32: 4 | P32: ХХ | R32: Выписка из ЕГРН, кадастровый номер 23:43:0106012:16223 | S32: 44882 | U32: ДА | W32: =IF(AND(T32="ДА",(IF(OR(U32="ДА",V32="ДА"),"ДА","НЕТ"))="ДА"),"ДА","НЕТ") -> НЕТ
A33: 24 | B33: ХХ | C33: БРТП-1974п | D33: 1000 | E33: =D33 -> 1000 | F33: ХХ | H33: КТП | I33: 2.49 | J33: г.Краснодар, ЖК Академический, ул. Лукьяненко, 8 | K33: Договор купли-продажи от 29.07.2013 б/н | N33: 13 | O33: 0 | P33: ХХ | T33: ДА | U33: ДА | W33: =IF(AND(T33="ДА",(IF(OR(U33="ДА",V33="ДА"),"ДА","НЕТ"))="ДА"),"ДА","НЕТ") -> ДА
A34: 25 | B34: ХХ | C34: БКТП-1992п | D34: 630 | E34: =D34 -> 630 | F34: ХХ | H34: БКТП | J34: г.Краснодар, ЖК Академический, ул. Азовская,17 | K34: Договор купли-продажи от 26.07.2013 б/н | N34: 2 | O34: 6 | P34: ХХ | T34: ДА | U34: ДА | W34: =IF(AND(T34="ДА",(IF(OR(U34="ДА",V34="ДА"),"ДА","НЕТ"))="ДА"),"ДА","НЕТ") -> ДА
A35: 26 | B35: ХХ | C35: ТП-1585п | D35: 250 | E35: 0 | F35: ХХ | H35: ТП | J35: г.Краснодар, ул. Калинина,1 | K35: Договор купли-продажи от 01.08.2013 № 125 | N35: 0 | O35: 1 | P35: ХХ | T35: ДА | W35: =IF(AND(T35="ДА",(IF(OR(U35="ДА",V35="ДА"),"ДА","НЕТ"))="ДА"),"ДА","НЕТ") -> НЕТ
A36: 27 | B36: ХХ | C36: 2КТП-2642п | D36: 1000 | E36: =D36 -> 1000 | F36: ХХ | H36: КТП | J36: г.Краснодар, ЖК Академический, ул. Лукьяненко | K36: Договор купли-продажи от 12.10.2018 № 12-10/18 | N36: 2 | O36: 4 | P36: ХХ | R36: Выписка из ЕГРН, кадастровый номер 23:43:0115033:4485 | S36: 44965 | T36: ДА | U36: ДА | W36: =IF(AND(T36="ДА",(IF(OR(U36="ДА",V36="ДА"),"ДА","НЕТ"))="ДА"),"ДА","НЕТ") -> ДА
A37: 28 | B37: ХХ | C37: 2КТП-2288п | D37: 1000 | E37: =D37 -> 1000 | F37: ХХ | H37: КТП | J37: г.Краснодар, ЖК Академический, ул. Лукьяненко | K37: Договор купли-продажи от 12.10.2018 № 12-10/18 | N37: 2 | O37: 4 | P37: ХХ | R37: Выписка из ЕГРН, кадастровый номер 23:43:0115033:4487 | S37: 44965 | T37: ДА | U37: ДА | W37: =IF(AND(T37="ДА",(IF(OR(U37="ДА",V37="ДА"),"ДА","НЕТ"))="ДА"),"ДА","НЕТ") -> ДА
A38: 29 | B38: ХХ | C38: 2КТП-2231п | D38: 1000 | E38: =D38 -> 1000 | F38: ХХ | H38: КТП | J38: г.Краснодар, ЖК Академический, ул. Лукьяненко | K38: Договор купли-продажи от 12.10.2018 № 12-10/18 | N38: 2 | O38: 4 | P38: ХХ | R38: Выписка из ЕГРН, кадастровый номер 23:43:0115033:4486 Выписка из ЕГРН, кадастровый номер 23:43:0115033:4483 | S38: 44965 | T38: ДА | U38: ДА | W38: =IF(AND(T38="ДА",(IF(OR(U38="ДА",V38="ДА"),"ДА","НЕТ"))="ДА"),"ДА","НЕТ") -> ДА
A39: 30 | B39: ХХ | C39: БКТП-1625п | D39: 630 | E39: =D39 -> 630 | F39: ХХ | H39: БКТП | I39: 0.428 | J39: г.Краснодар, ул. Каляева,263 | K39: Договор купли-продажи от 23.10.2018 № 23/10-18 | N39: 2 | O39: 6 | P39: ХХ | R39: Заключение кадастрового инженера от 08.05.2024г. | T39: ДА | V39: ДА | W39: =IF(AND(T39="ДА",(IF(OR(U39="ДА",V39="ДА"),"ДА","НЕТ"))="ДА"),"ДА","НЕТ") -> ДА
A40: 31 | B40: ХХ | C40: 2БКТП-2014п | D40: 1000 | E40: =D40 -> 1000 | F40: ХХ | H40: БКТП | I40: 1.9 | J40: г.Краснодар, ул. Кожевенная, 28 | K40: Договор аренды имущества от 17.05.2019 №22/19/401 | N40: 2 | O40: 6 | P40: ХХ | T40: ДА | W40: =IF(AND(T40="ДА",(IF(OR(U40="ДА",V40="ДА"),"ДА","НЕТ"))="ДА"),"ДА","НЕТ") -> НЕТ
...

Sheet ВЛ и КЛ ТСО
A1: Наименование организации: ООО "Кубанская электросетевая компания" | AF1: Приложение 2
A2: ИНН: 2309135367 | I2: КПП: 231001001
A3: Выделенный абонентский номер для обращений потребителей услуг по передаче электрической энергии и (или) технологическому присоединению: | I3: 8 (861) -299-10-10
A4: Официальный сайт в информационно-телекоммуникационной сети "Интернет": | I4: https://kubseti.ru/
A5: Информация по линиям электропередачи (воздушным и (или) кабельным) в административных границах Краснодарский область (край)
A7: Диспетчерское наименование | B7: Инвентарный номер линии | C7: Тип (ВЛ/КЛ) | D7: Диспетчерское наименование | E7: Протяженность воздушных линий электропередачи, км | W7: Протяженность кабельных линий электропередачи, км | AA7: Документ, подтверждающий владение линией электропередачи на праве собственности (реквизиты) информация о регистрации | AF7: Примечание
E8: 220 кВ | I8: 110 кВ | M8: 35 кВ | R8: 1-20 кВ | U8: ниже 1 кВ | W8: 110 кВ | X8: ДКП соответствие | Y8: 3-10 кВ | Z8: ниже 1 кВ | AB8: арендодатель | AC8: номер и дата | AD8: Принимается 100% | AE8: информация о регистрации
E9: количество цепей | I9: количество цепей | M9: количество цепей | R9: дерево | S9: дерево на ж/б пасынках | T9: ж/бетон,металл | U9: дерево, дерево на ж/б пасынках | V9: ж/бетон,металл
E10: 1 | G10: 2 | I10: 1 | K10: 2 | M10: 1 | P10: 2
E11: металл | F11: ж/бетон | G11: металл | H11: ж/бетон | I11: металл | J11: ж/бетон | K11: металл | L11: ж/бетон | M11: дерево | N11: металл | O11: ж/бетон | P11: металл | Q11: ж/бетон | AF11: ВОПРОСЫ 1 | AG11: ВОПРОСЫ 2 | AH11: Ответ ТСО от 16.05.2024 | AI11: Вопросы от 16.05.2024
A12: 4 | B12: 2 | C12: 3 | D12: 4 | E12: 5 | F12: 6 | G12: 7 | H12: 8 | I12: 9 | J12: 10 | K12: 11 | L12: 12 | M12: 13 | N12: 14 | O12: 15 | P12: 16 | Q12: 17 | R12: 18 | S12: 19 | T12: 20 | U12: 21 | V12: 22 | AA12: 27 | AB12: 28 | AC12: 29 | AD12: 30 | AE12: 28 | AF12: 28 | AG12: 28 | AH12: 28 | AI12: 28 | AJ12: 28
A13: БКТП-2108п | B13: ХХ | C13: КЛ | D13: БКТП-2108п | Y13: 3.51 | Z13: 2.61 | AA13: Договор купли-продажи от 01.07.2013 № 26-НД | AG13: "Выписка из ЕГРН, кадастровый номер: 23:43:0000000:18061, гос.учетный номер в ЕГРН - 18127"
A14: БКТП-2106п | B14: ХХ | C14: КЛ | D14: БКТП-2106п | AG14: "Выписка из ЕГРН, кадастровый номер: 23:43:0000000:18061, гос.учетный номер в ЕГРН - 18127"
A15: БКТП-2109п | B15: ХХ | C15: КЛ | D15: БКТП-2109п | Y15: 0.76 | Z15: 5.514 | AG15: "Выписка из ЕГРН, кадастровый номер: 23:43:0000000:18061, гос.учетный номер в ЕГРН - 18127"
A16: БКТП-2107п | B16: ХХ | C16: КЛ | D16: БКТП-2107п | Y16: 1.47 | Z16: 2.06 | AG16: "Выписка из ЕГРН, кадастровый номер: 23:43:0000000:18061, гос.учетный номер в ЕГРН - 18127"
A17: БКТП-2110п | B17: ХХ | C17: КЛ | D17: БКТП-2110п | AG17: "Выписка из ЕГРН, кадастровый номер: 23:43:0000000:18061, гос.учетный номер в ЕГРН - 18127"
A18: БКТП-2105п | B18: ХХ | C18: КЛ | D18: БКТП-2105п | Y18: 0.425 | AG18: "Выписка из ЕГРН, кадастровый номер: 23:43:0000000:18061, гос.учетный номер в ЕГРН - 18127"
A19: 2КЛ-10КВ АСБл 2(3*240 мм2) от 2 КТП по ул. Шумана 2 до 2БКТП №2103п | B19: ХХ | C19: КЛ | D19: 2КЛ-10КВ АСБл 2(3*240 мм2) от 2 КТП по ул. Шумана 2 до 2БКТП №2103п | X19: + | Y19: 2.98 | AD19: 2.98 | AF19: Выписка из ЕГРН, кадастровый номер: 23:43:0107001:48756 (2980м) | AH19: направляем выписку из ЕГРН (во вложении), в выписке указано 2980 метров, а не 2900, предлагаем уточнить длину в сторону увеличения; | AI19: +
A20: КТП-2476п | B20: ХХ | C20: КЛ | D20: КТП-2476п | X20: + | Y20: 1.48 | AA20: Договор купли-продажи от 30.11.2015 № 22/15/839 | AD20: 1.48 | AF20: Заключение кадастрового инженера на КЛ-10кВ 1480м от 17.05.2024г. | AG20: "Выписка из ЕГРН, кадастровый номер: 23:43:0000000:18061, гос.учетный номер в ЕГРН - 18127" | AH20: протяженность указана в исходном договоре купли-продажи. Заключение кадастрового инженера (далее - ЗКИ) в стадии подготовки, будет направлена в ваш адрес в ближайшее время; | AI20: +
A21: КТП-2730п | B21: ХХ | C21: КЛ | D21: КТП-2730п | X21: + | Y21: =0.81+0.38 -> 1.19 | Z21: 2.18 | AA21: Договор купли-продажи от 01.12.2016 № 7/12 | AD21: =1.19+2.18 -> 3.37 | AE21: =810+380 -> 1190 | AF21: Заключение кадастрового инженера на КЛ-10кВ от 08.04.2024г. на 810м+380м; Заключение кадастрового инженера на КЛ-0,4кВ 2180м от 07.05.2024г. | AG21: 1 | AH21: у нас ошибка. ЗКИ от 07.05.2024 на КЛ-0,4 кВ протяженностью 2180м во вложении, просим внести исправление в таблицу; | AI21: +
A22: КТП-2456п | B22: ХХ | C22: КЛ | D22: КТП-2456п | X22: + | Y22: 0.34 | Z22: 3.516 | AA22: Договор купли-продажи от 15.09.2016 №1 | AD22: =3.516 -> 3.516 | AF22: Заключение кадастрового инженера на КЛ-0,4кВ 3516м от 17.05.2024г. | AG22: "Выписка из ЕГРН, кадастровый номер: 23:43:0000000:18061, гос.учетный номер в ЕГРН - 18127" | AH22: протяженность указана в исходном договоре купли-продажи: - КЛ-10 кВ – 340 метров, - КЛ-0,4 кВ – 3165 метров. ЗКИ в стадии подготовки, будут направлены в ваш адрес в ближайшее время; | AI22: КЛ-10кВ 340м случаем не дублирует соседнюю линию от КТП-2457п тоже на 340м???
A23: КТП-2457п | B23: ХХ | C23: КЛ | D23: КТП-2457п | X23: + | Y23: =0.34+0.538 -> 0.878 | Z23: 1.532 | AA23: Договор купли-продажи от 01.12.2016 №6/12 | AD23: =0.878+1.532 -> 2.41 | AF23: Заключение кадастрового инженера на КЛ-10кВ 340м от 17.05.2024г. Заключение кадастрового инженера на КЛ-10кВ 538м от 17.05.2024г. Заключение кадастрового инженера на КЛ-0,4кВ 1532м от 17.05.2024г. | AG23: "Выписка из ЕГРН, кадастровый номер: 23:43:0000000:18061, гос.учетный номер в ЕГРН - 18127" | AH23: протяженность указана в исходном договоре купли-продажи: - КЛ-10 кВ – 538 метров, - КЛ-0,4 кВ – 1532 метров. ЗКИ в стадии подготовки, будут направлены в ваш адрес в ближайшее время | AI23: +
A24: ТП-2431п | B24: ХХ | C24: КЛ | D24: ТП-2431п | X24: + | Y24: 1.5 | Z24: 0.32 | AA24: Договор купли-продажи от 30.11.2015 № 22/15/839 Договор купли-продажи от 26.07.2019 № 719-2/ЕД | AD24: =1.5+0.32 -> 1.82 | AF24: Выписка из ЕГРН, кадастровый номер: 23:43:0000000:24753 (10кВ) от 06.12.2022, 1500м; Заключение кадастрового инженера на КЛ-0,4кВ 320м от 17.05.2024г. | AG24: "Выписка из ЕГРН, кадастровый номер: 23:43:0000000:18061, гос.учетный номер в ЕГРН - 18127" | AH24: согласны, что в отношении КЛ-10 надо указывать длину согласно Выписки, т.е. 1,5 км. В отношении КЛ-0,4 кВ ЗКИ в стадии подготовки, будет направлена в ваш адрес в ближайшее время; | AI24: +
A25: БРТП-1974п | B25: ХХ | C25: КЛ | D25: БРТП-1974п | X25: + | Y25: 0.825 | Z25: 3.922 | AA25: Договор купли-продажи от 29.07.2013 б/н | AD25: ? | AF25: Выписка из ЕГРН, кадастровый номер 23:43:0000000:18060, гос.учетный номер в ЕГРН - 18127 от 05.12.2022 на 7880м; | AG25: поправил+ может добавить в таблицу
A26: БКТП-1992п | B26: ХХ | C26: КЛ | D26: БКТП-1992п | X26: + | Y26: 2.084 | Z26: 1.049 | AA26: Договор купли-продажи от 26.07.2013 б/н | AD26: ? | AF26: Выписка из ЕГРН, кадастровый номер 23:43:0000000:18060, гос.учетный номер в ЕГРН - 18127 от 05.12.2022 на 7880м; | AG26: поправил+ может добавить в таблицу
A27: 2КТП-2642п | B27: ХХ | C27: КЛ | D27: 2КТП-2642п | X27: + | Y27: 0.18 | Z27: 0.42 | AA27: Договор купли-продажи от 12.10.2018 № 12-10/18 | AD27: =0.18+0.42 -> 0.6 | AF27: Выписка из ЕГРН, кадастровый номер 23:43:0115033:4481 (10 кВ) от 29.11.2022, 180м; Заключение кадастрового инженера от 07.05.2024г (0,4кВт на 420м). | AH27: в отношении КЛ-0,4 – ЗКИ во вложении к настоящему письму, просим внести изменения в таблицу | AI27: +
A28: 2КТП-2288п | B28: ХХ | C28: КЛ | D28: 2КТП-2288п | X28: + | Y28: 0.22 | Z28: 1.224 | AA28: Договор купли-продажи от 12.10.2018 № 12-10/18 | AD28: =0.22+1.224 -> 1.444 | AF28: Выписка из ЕГРН, кадастровый номер 23:43:0115033:4483 (10 кВ) от 30.11.2022, 220м; Заключение кадастрового инженера от 07.05.2024г (0,4кВт на 1224м). | AH28: в отношении КЛ-0,4 – ЗКИ во вложении к настоящему письму, просим внести изменения в таблицу; в отношении КЛ-10 – у нас ошибка, перепутаны местами длины КЛ-10 . Предлагаю поменять их местами, все придет в норму; | AI28: +
A29: 2КТП-2231п | B29: ХХ | C29: КЛ | D29: 2КТП-2231п | X29: + | Y29: 0.58 | Z29: 0.75 | AA29: Договор купли-продажи от 12.10.2018 № 12-10/18 | AD29: =0.58+0.75 -> 1.33 | AF29: Выписка из ЕГРН, кадастровый номер 23:43:0115033:4482 (10кВ) от 30.11.2022, 580м; Заключение кадастрового инженера от 07.05.2024г (0,4кВт на 750м) | AH29: в отношении КЛ-0,4 – ЗКИ во вложении к настоящему письму, просим внести изменения в таблицу; в отношении КЛ-10 – у нас ошибка, перепутаны местами длины КЛ-10 . Предлагаю поменять их местами, все придет в норму; | AI29: +
A30: ТП-1585п | B30: ХХ | C30: ВЛ | D30: ТП-1585п | T30: 0.15 | X30: + | AA30: Договор купли-продажи от 01.08.2013 № 125 | AH30: (ТП-1585п) – уже не актуальная информация, предлагаю удалить строку.
A31: БКТП-1625п | B31: ХХ | C31: КЛ | D31: БКТП-1625п | X31: + | AA31: Договор купли-продажи от 23.10.2018 № 23/10-18
A32: 2БКТП-2014п | B32: ХХ | C32: КЛ | D32: 2БКТП-2014п | X32: + | Y32: 0.832 | Z32: 9.42 | AA32: Договор аренды имущества от 17.05.2019 №22/19/401 | AB32: АО "АТЭК"
A33: 2БКТП-2015п | B33: ХХ | C33: КЛ | D33: 2БКТП-2015п | X33: + | AA33: Договор аренды имущества от 17.05.2019 №22/19/401 | AB33: АО "АТЭК"
A34: 2КТП-2962п | B34: ХХ | C34: КЛ | D34: 2КТП-2962п | X34: + | Y34: 4.4 | Z34: 0.4039 | AD34: =4.4 -> 4.4 | AF34: 23:43:0106012:16225 от 17.11.2022 10кВ -4400м; | AH34: протяженность КЛ-0,4 кВ указана в исходном договоре купли-продажи – 403,9 м., ЗКИ в стадии подготовки, будет направлено в ваш адрес в ближайшее время. В отношении ссылки на Выписку – согласны, здесь она лишняя;
A35: 2КТП-2699п | B35: ХХ | C35: КЛ | D35: 2КТП-2699п | X35: + | Y35: 0.69 | AA35: Договор купли-продажи от 01.08.2019 б/н | AD35: 0.69 | AF35: Заключение кадастрового инженера от 07.05.2024г. (КЛ 10кВ 690м) | AH35: Пункты 35 и 36 – ЗКИ во вложении, предлагаем внести изменения в таблицу согласно их содержания. Протяженности в ЗКИ несколько больше, так как они уточнялись в процессе подготовки техдокументации; | AI35: +
A36: 2КТП-2700п | B36: ХХ | C36: КЛ | D36: 2КТП-2700п | X36: + | Y36: =0.28 -> 0.28 | AA36: Договор купли-продажи от 01.08.2019 б/н | AD36: =0.28 -> 0.28 | AF36: Заключение кадастрового инженера от 07.05.2024г. (2КЛ 10кВ 280м) | AI36: +
A37: 2КТП-2701п | B37: ХХ | C37: КЛ | D37: 2КТП-2701п | X37: + | Y37: 1.468 | AA37: Собственность | AF37: Выписка из ЕГРН, кадастровый номер 23:43:0107001:48764 | AI37: Не нашел Выписку из ЕГРН, кадастровый номер 23:43:0107001:48764?
A38: КТП-3024п | B38: ХХ | C38: КЛ | D38: КТП-3024п | X38: + | Y38: =1.75*2 -> 3.5 | Z38: =2.232+0.186 -> 2.418 | AA38: Собственность | AD38: =3.5+2.232+0.186 -> 5.918 | AF38: 23:43:0106012:16226 (10 кВ) от 17.11.2022 3 500м; 23:43:0106012:2966 (0,4кВ) от 23.10.2019 186м; Заключение кадастрового инженера от 17.05.2024г. (КЛ 0,4кВ 2232м) | AG38: почему не совпадает длина 0,4 кВ с егрн?. | AH38: Пункт 38 – сведения в отношении КЛ-0,4 кВ, указанные в Выписке (186 метров) не актуальны, ЗКИ в отношении КЛ-0,4 кВ в стадии подготовки, будет направлено в ваш адрес в ближайшее время;
A39: 2КТП 400 по ул.Шумана 2 (на схеме ТП-Германия 3) | B39: ХХ | C39: КЛ | D39: 2КТП 400 по ул.Шумана 2 (на схеме ТП-Германия 3) | X39: + | Z39: 2.535 | AA39: Договор купли-продажи от 04.12.2019 № 22 | AD39: 2.535 | AF39: Выписка из ЕГРН, 23:43:0107001:48755 КЛ-0,4кВ 2535м; | AH39: Пункт 39 - исходным договором является не договор купли-продажи № 21 от 25.11.2019, а ДКП № 22 от 04.12.2019, предлагаем внести изменение в соответствующей ячейке. в отношении КЛ-10 – протяженность уже учтена в п. 19, в отношении КЛ-0,4 протяженность (2535 метров согласно Выписке) указана в пункте 80 может быть, имеет смысл перенести ее в пункт 39?, тогда пункт 80 вообще не нужен.) | AI39: в ЕГРН 23:43:0107001:48755 название ТП отличается от таблицы.
A40: 2КТП-3115п | B40: ХХ | C40: КЛ | D40: 2КТП-3115п | X40: + | Y40: 0.87 | Z40: 1.205 | AA40: Договор купли-продажи от 19.11.2019 б/н | AD40: =(870+1205)/1000 -> 2.075 | AF40: Заключение кадастрового инженера от 08.04.2024г. 10кВ 870м; Заключение кадастрового инженера от 08.04.2024г. 0,4кВ 1205м; | AH40: Пункт 40 – согласно ЗКИ (во вложении) длина КЛ-10 составляет 870 метров, уточнялась при подготовке техдокументации. Длина КЛ-0,4 согласно ЗКИ (во вложении) составляет 1205 метров, причина изменения та же. | AI40: +
A41: 2КТП-3116п | B41: ХХ | C41: КЛ | D41: 2КТП-3116п | X41: + | Y41: =3.2+0.5 -> 3.7 | Z41: 3.44 | AA41: Собственность | AD41: =3.2+0.5+3.44 -> 7.14 | AF41: Выписка из ЕГРН, кадастровый номер 23:43:0107001:48758 (10 кВ 3200м); Выписка из ЕГРН, кадастровый номер 23:43:0107001:48757 (0,4 кВ 3440м); Заключение кадастрового инженера от 07.05.2024г. (10кВ 500м); | AH41: Пункт 41: - в отношении КЛ-10 кВ- протяженность одной КЛ-10 согласно Выписке составляет 3200 метров, протяженность другой КЛ-10 согласно ЗКИ составляет 500 метров. Оба документа во вложении. - в отношении КЛ-0,4 – согласно Выписки длина 3440 метров (во вложении) Просим внести соответствующие изменения таблицу. | AI41: +
...

Sheet Сводная информация
N1: ДКП/СМР/ | O1: ДА
K2: =0.926/3 -> 0.30866667 | N2: ЕГРН/ЗКИ
B3: №п/п | C3: Муниципальное образование | D3: Город/ Населенный пункт | E3: Район (только для городов) | F3: Наименование ПС, ТП с указанием классов напряжения, количества и мощности трансформаторов | G3: Текущий объем свободной мощности, МВт | H3: Длина линий электропередач, непосредственно соединенным с трансформаторными подстанциями, указанными в столбце 2 таблицы, км | L3: Участие в тарифном регулировании 2022 года | M3: источник информации | N3: Вопросы | O3: Однолинейная схема | P3: Инвентарная карта (ОС-6) | Q3: Приказ о вводе ОС/Акт о приемке | R3: АоТП (на ТП) | S3: КС-2 | T3: КС-3 | U3: Ростехнадзор | V3: Дог.Аренды | W3: Характиристика обор-я прошедшая критерии на 2024г | AB3: РИСКИ
H4: 110 кВ | I4: 35 кВ | J4: 6-10 кВ | K4: 0,4 кВ | W4: Трансформаторная мощность, кВА | X4: Длина линий электропереда 10 кВ, км | Y4: Длина линий электропереда 0,4 кВ, км | AA4: Готовность | AB4: кВа | AC4: км
B5: 1 | F5: 2 | H5: 14 | I5: 15 | J5: 16 | K5: 17 | L5: 18
B6: 1 | C6: город Краснодар | D6: Краснодар | F6: 2БКТП-2108п, 10/0,4 кВ , 2000 кВА | G6: 0 | L6: да | M6: ДКП/ЗКИ | O6: да | P6: 000000001 | Q6: 29 | R6: АоТП от 07.04.2022 № 70 | S6: - | T6: - | U6: - | V6: - | W6: 2000 | AA6: 1
C7: город Краснодар | D7: Краснодар | F7: Кабельная линия, 2КЛ-10 кВ., ААБл-10, 3х240 кв.мм., L=1410м. | G7: 0 | J7: 1.41 | M7: ДКП/ЗКИ | O7: 1 | P7: 000000012 | Q7: 30 | S7: - | T7: - | U7: - | V7: - | X7: 1.41 | AA7: 1
C8: город Краснодар | D8: Краснодар | F8: Кабельная линия, 2КЛ-10 кВ., ААБл-10, 3х240 кв.мм., L=2100м. | G8: 0 | J8: 2.1 | M8: ДКП/ЗКИ | O8: 1 | P8: 000000052 | Q8: 31 | S8: - | T8: - | U8: - | V8: - | X8: 2.1 | AA8: 1
C9: город Краснодар | D9: Краснодар | F9: КЛ-0,4 кВ (коттеджи) от БКТП № 2108п до ВРУ коттеджей по ул Гамбургской | G9: 0 | K9: =1.75+0.86 -> 2.61 | M9: ДКП/ЗКИ | N9: 2610м без учета футляров из ДКП! | O9: 1 | P9: 000000018 | Q9: 32 | S9: - | T9: - | U9: - | V9: - | Y9: 2.61 | AA9: 1
C10: город Краснодар | D10: Краснодар | F10: КЛ-0,4 от 2БКТП-2108п до ВРУ на з/у с к/н 23:43:0106012:40239 (ул.Есаулко), L=315м | G10: 0 | K10: 0.315 | M10: СМР/ЗКИ | N10: Риски: где Ростехнодзор? Ответ 29.07.24 нет акта Ростехнадзора; | O10: 1 | P10: 00-000080 | Q10: 10 | S10: да | T10: да | U10: ? | V10: - | AA10: 0.75
B11: 2 | C11: город Краснодар | D11: Краснодар | F11: 2БКТП-2106п, 10/0,4 кВ , 1260 кВА | G11: 0 | L11: да | M11: ДКП/ЗКИ | O11: да | P11: 000000002 | Q11: 26 | S11: - | T11: - | U11: - | V11: - | W11: 1260 | AA11: 1
C12: город Краснодар | D12: Краснодар | F12: КЛ-0,4 кВ (коттеджи) от БКТП № 2106п до ВРУ коттеджей по ул Ганноверской, выполненная кабелем АВБбШвнг-4х185 кв.мм., L=5608м | G12: 0 | K12: =2.38+1.31 -> 3.69 | M12: ДКП/ЗКИ | N12: 3690м без учета футляров из ДКП! | O12: 1 | P12: 000000019 | Q12: 27 | S12: - | T12: - | U12: - | V12: - | AA12: 1
C13: город Краснодар | D13: Краснодар | F13: КЛ-0,4 кВ (коттеджи) от БКТП № 2106п до ВРУ коттеджей по ул Потсдамской, выполненная кабелем АВБбШвнг-4х185 кв.мм., L=6340м | G13: 0 | K13: =3.14+1.44 -> 4.58 | M13: ДКП/ЗКИ | N13: 4580м без учета футляров из ДКП! | O13: 1 | P13: 000000021 | Q13: 28 | S13: - | T13: - | U13: - | V13: - | AA13: 1
B14: 3 | C14: город Краснодар | D14: Краснодар | F14: 2БКТП-2109п, 10/0,4 кВ , 2500 кВА | G14: 0 | L14: да | M14: ДКП/ЗКИ | O14: да | P14: 000000003 | Q14: 13 | S14: - | T14: - | U14: - | V14: - | W14: 2500 | AA14: 1
C15: город Краснодар | D15: Краснодар | F15: Кабельная линия, 2КЛ-10 кВ., ААБл-10, 3х240 кв.мм., L=760м. | G15: 0 | J15: 0.76 | M15: ДКП/ЗКИ | O15: 1 | P15: 000000013 | Q15: 14 | S15: - | T15: - | U15: - | V15: - | X15: 0.76 | AA15: 1
B16: 4 | C16: город Краснодар | D16: Краснодар | F16: 2БКТП-2107п, 10/0,4 кВ , 2000 кВА | G16: 0 | L16: да | M16: ДКП/ЗКИ | O16: да | P16: 000000004 | Q16: 21 | S16: - | T16: - | U16: - | V16: - | W16: 2000 | AA16: 1
C17: город Краснодар | D17: Краснодар | F17: Кабельная линия, КЛ-0,4 кВ., АВБбШвнг-4х185 кв.мм., L=1720м. | G17: 0 | K17: 1.72 | M17: ДКП/ЗКИ | O17: 1 | P17: 000000010 | Q17: 22 | S17: - | T17: - | U17: - | V17: - | AA17: 1
C18: город Краснодар | D18: Краснодар | F18: Кабельная линия, 2КЛ-10 кВ., ААБл-10, 3х240 кв.мм., L=1470м. | G18: 0 | J18: 1.47 | M18: ДКП/ЗКИ | O18: 1 | P18: 000000015 | Q18: 23 | S18: - | T18: - | U18: - | V18: - | X18: 1.47 | AA18: 1
C19: город Краснодар | D19: Краснодар | F19: КЛ 0,4 кВ (коттеджи) от БКТП № 2107п до ВРУ коттеджей по ул Берлинской | G19: 0 | K19: =1.64+0.42 -> 2.06 | M19: ДКП/ЗКИ | N19: 2060м без учета футляров из ДКП! | O19: 1 | P19: 000000017 | Q19: 24 | S19: - | T19: - | U19: - | V19: - | Y19: =1.64+0.42 -> 2.06 | AA19: 1
C20: город Краснодар | D20: Краснодар | F20: КЛ-0,4 кВ (коттеджи) от БКТП № 2107п до ВРУ коттеджей по ул Мюнхенской, выполненная кабелем АВБбШвнг-4х185 кв.мм., | G20: 0 | K20: =2.93+1.13 -> 4.06 | M20: ДКП/ЗКИ | N20: 4060м без учета футляров из ДКП! | O20: 1 | P20: 000000020 | Q20: 25 | S20: - | T20: - | U20: - | V20: - | AA20: 1
B21: 5 | C21: город Краснодар | D21: Краснодар | F21: 2БКТП-2110п, 10/0,4 кВ , 2500 кВА | G21: 0 | L21: да | M21: ДКП/ЗКИ | O21: да | P21: 000000005 | Q21: 19 | S21: - | T21: - | U21: - | V21: - | W21: 2500 | AA21: 1
C22: город Краснодар | D22: Краснодар | F22: Кабельная линия, 4КЛ-0,4 кВ., АВБбШвнг-4х185 кв.мм., L=5514м. | G22: 0 | K22: 5.514 | M22: ДКП/ЗКИ | O22: 1 | P22: 000000009 | Q22: 20 | S22: - | T22: - | U22: - | V22: - | Y22: 5.514 | AA22: 1
B23: 6 | C23: город Краснодар | D23: Краснодар | F23: 2БКТП-2105п, 10/0,4 кВ , 1260 кВА | G23: 0 | L23: да | M23: ДКП/ЗКИ | O23: да | P23: 000000006 | Q23: 17 | S23: - | T23: - | U23: - | V23: - | W23: 1260 | AA23: 1
C24: город Краснодар | D24: Краснодар | F24: Кабельная линия, 2КЛ-10 кВ., ААБл-10, 3х240 кв.мм., L= 425м. | G24: 0 | J24: 0.425 | M24: ДКП/ЗКИ | O24: 1 | P24: 000000016 | Q24: 18 | S24: - | T24: - | U24: - | V24: - | X24: 0.425 | AA24: 1
B25: 7 | C25: город Краснодар | D25: Краснодар | F25: 2БРТП-2103п, 10/0,4 кВ , 2000 кВА | G25: 0 | L25: да | M25: ДКП/ЕГРН | O25: да | P25: 000000007 | Q25: 15 | S25: - | T25: - | U25: - | V25: - | W25: 2000 | AA25: 1
C26: город Краснодар | D26: Краснодар | F26: Кабельная линия, 2КЛ-10 кВ., одножильная с изоляцией из сшитого полиэлитена с алюминевой жилой. Тип/марка: NA2XS(F)2Y, 500 кв.мм. L= 27 960 м | G26: 0 | J26: 27.96 | M26: ДКП/ЗКИ | O26: 1 | P26: 000000011 | Q26: 16 | S26: - | T26: - | U26: - | V26: - | X26: =3.2+49.579 -> 52.779 | Y26: 17.9735 | Z26: прочие линии | AA26: 1
C27: город Краснодар | D27: Краснодар | F27: 2КЛ-10кВ АСБл 2(3*240мм2) от 2КТП по ул.Шумана 2 до 2БКТП №2103п | G27: 0 | J27: 2.98 | M27: ДКП/ЕГРН | N27: Инвентаризация, строка 35, уточнение тех.характиристик; (линия в 900м 10кВ, по итогам уточнения тех.характеристик после инвентаризации перешла в линию 2980м см.ТП-2103, письмо 29,07.24 12:54) | O27: 1 | P27: 00-000055 | Q27: 22 | S27: - | T27: - | U27: - | V27: - | AA27: 1 | AC27: =J27 -> 2.98
B28: 8 | C28: город Краснодар | D28: Краснодар | F28: 2БКТП-2476п, 10/0,4 кВ , 800 кВА | G28: 0 | L28: да | M28: ДКП/ЗКИ | O28: да | P28: 000000059 | Q28: 38 | S28: - | T28: - | U28: - | V28: - | W28: 800 | AA28: 1
C29: город Краснодар | D29: Краснодар | F29: КЛ АСБл-10 3х70 мм2 с аллюмин.жилами в свинц оболочке с бумажной изоляц, 1480м | G29: 0 | J29: 1.48 | L29: да | M29: ДКП/ЗКИ | N29: наименов в ДКП и ЗКИ отличается | O29: 1 | P29: 000000058 | Q29: 37 | S29: - | T29: - | U29: - | V29: - | X29: 1.48 | AA29: 1
B30: 9 | C30: город Краснодар | D30: Краснодар | F30: 2БКТП-2456п, 10/0,4 кВ , 2000 кВА | G30: 0 | L30: да | M30: ДКП/ЗКИ | O30: да | P30: 000000062 | Q30: 1 | S30: - | T30: - | U30: - | V30: - | W30: 2000 | AA30: 1
C31: город Краснодар | D31: Краснодар | F31: КЛ 10 кВ от 2КТП-10/0,4 кВ №2456п до 2КТП-10/0,4 кВ №2457п | G31: 0 | J31: 0.34 | M31: ДКП/ЗКИ | O31: 1 | P31: 000000062 | Q31: 1 | S31: - | T31: - | U31: - | V31: - | X31: 0.34 | AA31: 1
C32: город Краснодар | D32: Краснодар | F32: КЛ 0,4 кВ | G32: 0 | K32: 1.32 | M32: ДКП/ЗКИ | O32: 1 | P32: 000000062 | Q32: 1 | S32: - | T32: - | U32: - | V32: - | Y32: 1.32 | AA32: 1
C33: город Краснодар | D33: Краснодар | F33: КЛ 0,4 кВ | G33: 0 | K33: 1.8445 | M33: ДКП/ЗКИ | O33: 1 | P33: 000000062 | Q33: 1 | S33: - | T33: - | U33: - | V33: - | Y33: 1.8445 | AA33: 1
C34: город Краснодар | D34: Краснодар | F34: КЛ 0,4 кВ АВБбШв4*35мм2 длиной 583м | G34: 0 | K34: 0.583 | M34: ДКП/ЗКИ | O34: 1 | P34: 000000062 | Q34: 1 | Y34: 0.583 | AA34: 1
B35: 10 | C35: город Краснодар | D35: Краснодар | F35: 2КТП-2457п, 10/0,4 кВ , 2000 кВА | G35: 0 | L35: да | M35: ДКП/ЗКИ | N35: КТП№2457п также приобретается по ДПК№от 01.12.2016 №6/12??? | O35: да | P35: 000000065 | Q35: 6 | S35: - | T35: - | U35: - | V35: - | W35: 2000 | AA35: 1
C36: город Краснодар | D36: Краснодар | F36: КЛ 10 кВ АСБл 3х240 мм2 КТП-2456п-КТП-2457п общей длиной 538 м, ЖК Европа-Сити | G36: 0 | J36: 0.538 | L36: да | M36: ДКП/ЗКИ | O36: 1 | P36: 000000066 | Q36: 8 | S36: - | T36: - | U36: - | V36: - | X36: 0.538 | AA36: 1
C37: город Краснодар | D37: Краснодар | F37: КЛ 0,4 кВ от КТП-2457п, ЖК Европа-Сити | G37: 0 | K37: 1.532 | L37: да | M37: ДКП/ЗКИ | O37: 1 | P37: 000000067 | Q37: 7 | S37: - | T37: - | U37: - | V37: - | Y37: 1.532 | AA37: 1
C38: город Краснодар | D38: Краснодар | F38: КЛ 0,4 кВ АВБбШв4*25мм2 длиной 1069м | G38: 0 | K38: 1.069 | M38: ДКП/ЗКИ | O38: 1 | P38: 000000065 | Q38: 6 | S38: - | T38: - | U38: - | V38: - | Y38: 1.069 | AA38: 1
B39: 11 | C39: город Краснодар | D39: Краснодар | F39: 2КТП-2431п, 10/0,4 кВ , 800 кВА | G39: 0 | L39: да | M39: ДКП/ЕГРН | N39: Почему в ЕГРН мощность 2*1000, а в дкп, ИК и ОС =2*400 ??? Ответ: ЕГРН не поправим, оставляем мощность наименьшую 2*400=800 | O39: да | P39: 000000054 | Q39: 33 | S39: - | T39: - | U39: - | V39: - | W39: 800 | AA39: 1
C40: город Краснодар | D40: Краснодар | F40: КЛ 0,4 кВ 4х120 мм2 от ТП-2431п до кот.общей протяж. 320м | G40: 0 | K40: 0.32 | L40: да | M40: ДКП/ЗКИ | O40: 1 | P40: 000000055 | Q40: 35 | S40: - | T40: - | U40: - | V40: - | Y40: 0.32 | AA40: 1
...

Sheet Лист7
B2: ООО «Кантри-Строй»
B4: Кабельная линия КЛ-0,4 кВ от 2КТП № 2701 до ВРУ № 1 МКД № 14 по ул. Веронская в г. Краснодаре, | F4: =B4&$E$3&B5 -> Кабельная линия КЛ-0,4 кВ от 2КТП № 2701 до ВРУ № 1 МКД № 14 по ул. Веронская в г. Краснодаре,Кабель АВБбШв сечение 4х95 мм2 | G4: =C5 -> 260 | H4: =D5 -> 59167.24
B5: Кабель АВБбШв сечение 4х95 мм2 | C5: 260 | D5: 59167.24
B6: Кабельная линия КЛ-0,4 кВ от 2КТП № 2701 до ВРУ № 6.1 МКД № 4 по ул. Веронская в г. Краснодаре, | F6: =B6&$E$3&B7 -> Кабельная линия КЛ-0,4 кВ от 2КТП № 2701 до ВРУ № 6.1 МКД № 4 по ул. Веронская в г. Краснодаре,Кабель АВБбШв сечение 4х95 мм2 | G6: =C7 -> 660 | H6: =D7 -> 300387.55
B7: Кабель АВБбШв сечение 4х95 мм2 | C7: 660 | D7: 300387.55
B8: Кабельная линия КЛ-0,4 кВ от 2КТП № 2701 до ВРУ № 1.1 МКД № 4 по ул. Веронская в г. Краснодаре, | F8: =B8&$E$3&B9 -> Кабельная линия КЛ-0,4 кВ от 2КТП № 2701 до ВРУ № 1.1 МКД № 4 по ул. Веронская в г. Краснодаре,Кабель АВБбШв сечение 4х70 мм2 | G8: =C9 -> 560 | H8: =D9 -> 254874.28
B9: Кабель АВБбШв сечение 4х70 мм2 | C9: 560 | D9: 254874.28
B10: Кабельная линия КЛ-0,4 кВ от 2КТП № 2701 до ВРУ № 2.1 МКД № 6 по ул. Веронская в г. Краснодаре, | F10: =B10&$E$3&B11 -> Кабельная линия КЛ-0,4 кВ от 2КТП № 2701 до ВРУ № 2.1 МКД № 6 по ул. Веронская в г. Краснодаре,Кабель АВБбШв сечение 4х95 мм2 | G10: =C11 -> 460 | H10: =D11 -> 209361.02
B11: Кабель АВБбШв сечение 4х95 мм2 | C11: 460 | D11: 209361.02
B12: Кабельная линия КЛ-0,4 кВ от 2КТП № 2701 до ВРУ № 3.1 МКД № 8 по ул. Веронская в г. Краснодаре, | F12: =B12&$E$3&B13 -> Кабельная линия КЛ-0,4 кВ от 2КТП № 2701 до ВРУ № 3.1 МКД № 8 по ул. Веронская в г. Краснодаре,Кабель АВБбШв сечение 4х95 мм2 | G12: =C13 -> 590 | H12: =D13 -> 258527.57
B13: Кабель АВБбШв сечение 4х95 мм2 | C13: 590 | D13: 258527.57
B14: Кабельная линия КЛ-0,4 кВ от 2КТП № 2701 до ВРУ № 2.1 МКД № 8 по ул. Веронская в г. Краснодаре, | F14: =B14&$E$3&B15 -> Кабельная линия КЛ-0,4 кВ от 2КТП № 2701 до ВРУ № 2.1 МКД № 8 по ул. Веронская в г. Краснодаре,Кабель АВБбШв сечение 4х70мм2 | G14: =C15 -> 680 | H14: =D15 -> 309490.2
B15: Кабель АВБбШв сечение 4х70мм2 | C15: 680 | D15: 309490.2
F16: =B17&$E$3&B18 -> Кабельная линия КЛ-0,4 кВ от 2КТП № 2701 до ВРУ № 4.1 МКД № 10 по ул. Веронская в г. Краснодаре,Кабель АВБбШв сечение 4х95 мм2 | G16: =C18 -> 270 | H16: =D18 -> 122885.82
B17: Кабельная линия КЛ-0,4 кВ от 2КТП № 2701 до ВРУ № 4.1 МКД № 10 по ул. Веронская в г. Краснодаре,
B18: Кабель АВБбШв сечение 4х95 мм2 | C18: 270 | D18: 122885.82 | F18: =B19&$E$3&B20 -> Кабельная линия КЛ-0,4 кВ от 2КТП № 2701 до ВРУ № 5.1 МКД № 12 по ул. Веронская в г. Краснодаре,Кабель АВБбШв сечение 4х95 мм2 | G18: =C20 -> 420 | H18: =D20 -> 191155.71
B19: Кабельная линия КЛ-0,4 кВ от 2КТП № 2701 до ВРУ № 5.1 МКД № 12 по ул. Веронская в г. Краснодаре,
B20: Кабель АВБбШв сечение 4х95 мм2 | C20: 420 | D20: 191155.71 | F20: =B21&$E$3&B22 -> Кабельная линия КЛ-0,4 кВ от 2КТП № 2701 до ВРУ № 2 МКД № 14 по ул. Веронская в г. Краснодаре,Кабель АВБбШв сечение 4х95 мм2 | G20: =C22 -> 220 | H20: =D22 -> 100129.18
B21: Кабельная линия КЛ-0,4 кВ от 2КТП № 2701 до ВРУ № 2 МКД № 14 по ул. Веронская в г. Краснодаре,
B22: Кабель АВБбШв сечение 4х95 мм2 | C22: 220 | D22: 100129.18 | F22: =B23&$E$3&B24 -> Кабельная линия КЛ-0,4 кВ от 2КТП № 2701 до ВРУ № 3 МКД № 14 по ул. Веронская в г. Краснодаре,Кабель АВБбШв сечение 4х95 мм2 | G22: =C24 -> 180 | H22: =D24 -> 95577.86
B23: Кабельная линия КЛ-0,4 кВ от 2КТП № 2701 до ВРУ № 3 МКД № 14 по ул. Веронская в г. Краснодаре,
B24: Кабель АВБбШв сечение 4х95 мм2 | C24: 180 | D24: 95577.86 | F24: =B25&$E$3&B26 -> Кабельная линия КЛ-0,4 кВ от 2КТП № 2701 до ВРУ № 7.1 МКД № 16 по ул. Веронская в г. Краснодаре,Кабель АВБбШв сечение 4х95 мм2 | G24: =C26 -> 280 | H24: =D26 -> 127437.14
B25: Кабельная линия КЛ-0,4 кВ от 2КТП № 2701 до ВРУ № 7.1 МКД № 16 по ул. Веронская в г. Краснодаре,
B26: Кабель АВБбШв сечение 4х95 мм2 | C26: 280 | D26: 127437.14 | F26: =B27&$E$3&B28 -> Кабельная линия КЛ-0,4 кВ от 2КТП № 2701 до ВРУ № 8.1 МКД № 18 по ул. Веронская в г. Краснодаре,Кабель АВБбШв сечение 4х95 мм2 | G26: =C28 -> 200 | H26: =D28 -> 91026.53
B27: Кабельная линия КЛ-0,4 кВ от 2КТП № 2701 до ВРУ № 8.1 МКД № 18 по ул. Веронская в г. Краснодаре,
B28: Кабель АВБбШв сечение 4х95 мм2 | C28: 200 | D28: 91026.53 | F28: =B29&$E$3&B30 -> Кабельная линия КЛ-0,4 кВ от 2КТП № 2701 до ВРУ № 9.1 МКД № 20 по ул. Веронская в г. Краснодаре,Кабель АВБбШв сечение 4х95 мм2 | G28: =C30 -> 500 | H28: =D30 -> 227566.32
B29: Кабельная линия КЛ-0,4 кВ от 2КТП № 2701 до ВРУ № 9.1 МКД № 20 по ул. Веронская в г. Краснодаре,
B30: Кабель АВБбШв сечение 4х95 мм2 | C30: 500 | D30: 227566.32
D33: =SUM(D4:D30) -> 2347586.4 | H33: =SUM(H4:H30) -> 2347586.4
B39: КЛ-0,4 кВ от 2КТП № 2701 до ВРУ № 1 МКД № 14 по ул. Веронская в г. Краснодаре,Кабель АВБбШв сечение 4х95 мм2 | C39: 260 | D39: =C39/1000 -> 0.26 | F39: Кабельная | G39: линия | H39: КЛ-0,4 | I39: кВ | J39: от | K39: 2КТП | L39: № | M39: 2701 | N39: до | O39: ВРУ | P39: № | Q39: 1 | R39: МКД | S39: № | T39: 14 | U39: по ул. Веронская в г. Краснодаре,Кабель АВБбШв сечение | V39: 4х95 мм2
B40: КЛ-0,4 кВ от 2КТП № 2701 до ВРУ № 6.1 МКД № 4 по ул. Веронская в г. Краснодаре,Кабель АВБбШв сечение 4х95 мм2 | C40: 660 | D40: =C40/1000 -> 0.66 | F40: Кабельная | G40: линия | H40: КЛ-0,4 | I40: кВ | J40: от | K40: 2КТП | L40: № | M40: 2701 | N40: до | O40: ВРУ | P40: № | Q40: 45297 | U40: МКД № 4 по ул. Веронская в г. Краснодаре,Кабель АВБбШв | V40: сечение 4х95 мм2
B41: КЛ-0,4 кВ от 2КТП № 2701 до ВРУ № 1.1 МКД № 4 по ул. Веронская в г. Краснодаре,Кабель АВБбШв сечение 4х70 мм2 | C41: 560 | D41: =C41/1000 -> 0.56 | F41: Кабельная | G41: линия | H41: КЛ-0,4 | I41: кВ | J41: от | K41: 2КТП | L41: № | M41: 2701 | N41: до | O41: ВРУ | P41: № | Q41: 45292 | U41: МКД № 4 по ул. Веронская в г. Краснодаре,Кабель АВБбШв | V41: сечение 4х70 мм2
B42: КЛ-0,4 кВ от 2КТП № 2701 до ВРУ № 2.1 МКД № 6 по ул. Веронская в г. Краснодаре,Кабель АВБбШв сечение 4х95 мм2 | C42: 460 | D42: =C42/1000 -> 0.46 | F42: Кабельная | G42: линия | H42: КЛ-0,4 | I42: кВ | J42: от | K42: 2КТП | L42: № | M42: 2701 | N42: до | O42: ВРУ | P42: № | Q42: 45293 | U42: МКД № 6 по ул. Веронская в г. Краснодаре,Кабель АВБбШв | V42: сечение 4х95 мм2
B43: КЛ-0,4 кВ от 2КТП № 2701 до ВРУ № 3.1 МКД № 8 по ул. Веронская в г. Краснодаре,Кабель АВБбШв сечение 4х95 мм2 | C43: 590 | D43: =C43/1000 -> 0.59 | F43: Кабельная | G43: линия | H43: КЛ-0,4 | I43: кВ | J43: от | K43: 2КТП | L43: № | M43: 2701 | N43: до | O43: ВРУ | P43: № | Q43: 45294 | U43: МКД № 8 по ул. Веронская в г. Краснодаре,Кабель АВБбШв | V43: сечение 4х95 мм2
B44: КЛ-0,4 кВ от 2КТП № 2701 до ВРУ № 2.1 МКД № 8 по ул. Веронская в г. Краснодаре,Кабель АВБбШв сечение 4х70мм2 | C44: 680 | D44: =C44/1000 -> 0.68 | F44: Кабельная | G44: линия | H44: КЛ-0,4 | I44: кВ | J44: от | K44: 2КТП | L44: № | M44: 2701 | N44: до | O44: ВРУ | P44: № | Q44: 45293 | U44: МКД № 8 по ул. Веронская в г. Краснодаре,Кабель АВБбШв | V44: сечение 4х70мм2
B45: КЛ-0,4 кВ от 2КТП № 2701 до ВРУ № 4.1 МКД № 10 по ул. Веронская в г. Краснодаре,Кабель АВБбШв сечение 4х95 мм2 | C45: 270 | D45: =C45/1000 -> 0.27 | F45: Кабельная | G45: линия | H45: КЛ-0,4 | I45: кВ | J45: от | K45: 2КТП | L45: № | M45: 2701 | N45: до | O45: ВРУ | P45: № | Q45: 45295 | U45: МКД № 10 по ул. Веронская в г. Краснодаре,Кабель АВБбШв | V45: сечение 4х95 мм2
B46: КЛ-0,4 кВ от 2КТП № 2701 до ВРУ № 5.1 МКД № 12 по ул. Веронская в г. Краснодаре,Кабель АВБбШв сечение 4х95 мм2 | C46: 420 | D46: =C46/1000 -> 0.42 | F46: Кабельная | G46: линия | H46: КЛ-0,4 | I46: кВ | J46: от | K46: 2КТП | L46: № | M46: 2701 | N46: до | O46: ВРУ | P46: № | Q46: 45296 | U46: МКД № 12 по ул. Веронская в г. Краснодаре,Кабель АВБбШв | V46: сечение 4х95 мм2
B47: КЛ-0,4 кВ от 2КТП № 2701 до ВРУ № 2 МКД № 14 по ул. Веронская в г. Краснодаре,Кабель АВБбШв сечение 4х95 мм2 | C47: 220 | D47: =C47/1000 -> 0.22 | F47: Кабельная | G47: линия | H47: КЛ-0,4 | I47: кВ | J47: от | K47: 2КТП | L47: № | M47: 2701 | N47: до | O47: ВРУ | P47: № | Q47: 2 | R47: МКД | S47: № | T47: 14 | U47: по ул. Веронская в г. Краснодаре,Кабель АВБбШв сечение | V47: 4х95 мм2
B48: КЛ-0,4 кВ от 2КТП № 2701 до ВРУ № 3 МКД № 14 по ул. Веронская в г. Краснодаре,Кабель АВБбШв сечение 4х95 мм2 | C48: 180 | D48: =C48/1000 -> 0.18 | F48: Кабельная | G48: линия | H48: КЛ-0,4 | I48: кВ | J48: от | K48: 2КТП | L48: № | M48: 2701 | N48: до | O48: ВРУ | P48: № | Q48: 3 | R48: МКД | S48: № | T48: 14 | U48: по ул. Веронская в г. Краснодаре,Кабель АВБбШв сечение | V48: 4х95 мм2
B49: КЛ-0,4 кВ от 2КТП № 2701 до ВРУ № 7.1 МКД № 16 по ул. Веронская в г. Краснодаре,Кабель АВБбШв сечение 4х95 мм2 | C49: 280 | D49: =C49/1000 -> 0.28 | F49: Кабельная | G49: линия | H49: КЛ-0,4 | I49: кВ | J49: от | K49: 2КТП | L49: № | M49: 2701 | N49: до | O49: ВРУ | P49: № | Q49: 45298 | U49: МКД № 16 по ул. Веронская в г. Краснодаре,Кабель АВБбШв | V49: сечение 4х95 мм2
...

Sheet Лист3
E2: приказ | F2: ИК
B4: 0 | C4: 0 | D4: 0 | E4: 0 | F4: 0
B5: 937 | C5: Воздушная линия ВЛ-10 кВ, АС-35, от ПС 35/10 кВ «НС-3» до оп. № 1-50 ВЛ-10 кВ. | D5: 2650 | E5: 242 | F5: БП-000433 | G5: в направлении ТП-10/0,4 кВ №НС-3-102-937п
B6: 937 | C6: Воздушная линия ВЛ-10 кВ, АС-35, от оп. № 1-50 ВЛ-10 кВ., до РУ-10 кВ., ТП-10/0,4 кВ № НС-3-102- 937п/100 кВА. | D6: 60 | E6: 243 | F6: БП-000434
B7: 877 | C7: Воздушная линия ВЛ-10 кВ, АС-35, от оп. № 1-50 ВЛ-10 кВ., до РУ-10 кВ., ТП-10/0,4 кВ № НС-3-102- 877п/160 кВА. | D7: 353 | E7: 244 | F7: БП-000435
B8: 878 | C8: Воздушная линия ВЛ-10 кВ, АС-35, от оп. № 1-50 ВЛ-10 кВ., до РУ-10 кВ., ТП-10/0,4 кВ № НС-3-102- 878п/100 кВА. | D8: 828 | E8: 245 | F8: БП-000436
B9: 937 | C9: Воздушная линия ВЛ-0,4 кВ, АС-16, от РУ-0,4 кВ., ТП-10/0,4 кВ № НС-3-102- 937п/100 кВА., по ул. Хозяйственной. | D9: 250 | E9: 246 | F9: БП-000437
B10: 937 | C10: Воздушная линия ВЛ-0,4 кВ, АС-16, от РУ-0,4 кВ., ТП-10/0,4 кВ № НС-3-102- 937п/100 кВА., по ул. 2-й Ореховый проезд. | D10: 289 | E10: 247 | F10: БП-000438
B11: 937 | C11: Воздушная линия ВЛ-0,4 кВ, АС-16, от РУ-0,4 кВ., ТП-10/0,4 кВ № НС-3-102- 937п/100 кВА., по ул. 4-й Ореховый проезд. | D11: 327 | E11: 248 | F11: БП-000439 | Q11: 80.5
B12: 937 | C12: Воздушная линия ВЛ-0,4 кВ, АС-16, от РУ-0,4 кВ., ТП-10/0,4 кВ № НС-3-102- 937п/100 кВА., по ул. 3-й Ореховый проезд. | D12: 220 | E12: 249 | F12: БП-000440 | Q12: 107.5
B13: 937 | C13: Воздушная линия ВЛ-0,4 кВ, АС-16, от РУ-0,4 кВ., ТП-10/0,4 кВ № НС-3-102- 937п/100 кВА., по ул. 4-й Ореховый проезд. | D13: 230 | E13: 250 | F13: БП-000441 | Q13: 182.5
B14: 877 | C14: Воздушная линия ВЛ-0,4 кВ, АС-16, от РУ-0,4 кВ., ТП-10/0,4 кВ № НС-3-102- 877п/160 кВА., по ул. проезд Центральный. | D14: 210 | E14: 251 | F14: БП-000442 | Q14: 217.5
B15: 877 | C15: Воздушная линия ВЛ-0,4 кВ, АС-16, от РУ-0,4 кВ., ТП-10/0,4 кВ № НС-3-102- 877п/160 кВА., по ул. 1-й Ореховый проезд. | D15: 200 | E15: 252 | F15: БП-000443 | Q15: 241.5
B16: 877 | C16: Воздушная линия ВЛ-0,4 кВ, АС-16, от РУ-0,4 кВ., ТП-10/0,4 кВ № НС-3-102- 877п/160 кВА., по ул. Ореховой. | D16: 377 | E16: 253 | F16: БП-000444 | Q16: 363.5
B17: 877 | C17: Воздушная линия ВЛ-0,4 кВ, АС-16, от РУ-0,4 кВ., ТП-10/0,4 кВ № НС-3-102- 877п/160 кВА., по ул. Берёзовой. | D17: 363 | E17: 254 | F17: БП-000445 | Q17: 396.5
B18: 878 | C18: Воздушная линия ВЛ-0,4 кВ, АС-16, от РУ-0,4 кВ., ТП-10/0,4 кВ № НС-3-102- 878п/100 кВА., по ул. Центральной. | D18: 435 | E18: 255 | F18: БП-000446 | Q18: 398.5
B19: 877 | C19: Воздушная линия ВЛ-0,4 кВ, АС-16, от РУ-0,4 кВ., ТП-10/0,4 кВ № НС-3-102- 877п/160 кВА., по ул. Сосновой. | D19: 360 | E19: 256 | F19: БП-000447 | Q19: 235
B20: 877 | C20: Воздушная линия ВЛ-0,4 кВ, АС-16, от РУ-0,4 кВ., ТП-10/0,4 кВ № НС-3-102- 877п/160 кВА., по ул. Вишнёвой. | D20: 430 | E20: 257 | F20: БП-000448 | Q20: 398.5
B21: 878 | C21: Воздушная линия ВЛ-0,4 кВ, АС-16, от РУ-0,4 кВ., ТП-10/0,4 кВ № НС-3-102- 878п/100 кВА., по ул. Цветочной. | D21: 413 | E21: 258 | F21: БП-000449 | Q21: =SUM(Q11:Q20) -> 2621.5
B22: 878 | C22: Воздушная линия ВЛ-0,4 кВ, АС-16, от РУ-0,4 кВ., ТП-10/0,4 кВ № НС-3-102- 878п/100 кВА., по ул. Клубничной. | D22: 409 | E22: 259 | F22: БП-000450 | Q22: =Q21*2 -> 5243
B23: 878 | C23: Воздушная линия ВЛ-0,4 кВ, АС-16, от РУ-0,4 кВ., ТП-10/0,4 кВ № НС-3-102- 878п/100 кВА., по ул. Тополевой. | D23: 414 | E23: 260 | F23: БП-000451 | Q23: =Q22*2 -> 10486
B24: 878 | C24: Воздушная линия ВЛ-0,4 кВ, АС-16, от РУ-0,4 кВ., ТП-10/0,4 кВ № НС-3-102- 878п/100 кВА., по ул. Лесной. | D24: 410 | E24: 261 | F24: БП-000452
B25: 877 | C25: Воздушная линия ВЛ-0,4 кВ, АС-16, от РУ-0,4 кВ., ТП-10/0,4 кВ № НС-3-102- 877п/160 кВА., по ул. Парковой. | D25: 645 | E25: 262 | F25: БП-000453
C26: Трансформаторная подстанция ТП-10/0,4 кВ № НС-3-102- 937п/100 кВА., находящаяся по адресу: г. Краснодар, Прикубанский внутригородской округ, СНТ «Дубки», ул. Речная №2 | D26: 1 | F26: БП-000454
C27: Трансформаторная подстанция ТП-10/0,4 кВ № НС-3-102- 878п/100 кВА., находящаяся по адресу: г. Краснодар, Прикубанский внутригородской округ, СНТ «Дубки», ул. Лесная №10 | D27: 1 | F27: БП-000455
C28: Трансформаторная подстанция ТП-10/0,4 кВ № НС-3-102- 877п/160 кВА., находящаяся по адресу: г. Краснодар, Прикубанский внутригородской округ, СНТ «Дубки», ул. Ореховая №22 | D28: 1 | F28: БП-000456

Sheet Сверка с КЭСК
J1: 45861 | M1: 45864
I2: Сверка с КЭСК по сверки оборудования для прохождения критериев на 2025г | M2: Сверка с КЭСК по сверки оборудования для прохождения критериев на 2025г
C3: 1) Нет однолинейной схемы | I3: (цветом отмечены предоставленные документы) | M3: (цветом отмечены предоставленные документы)
C4: 1 | D4: Кабельная линия, 2КЛ-10 кВ., ААБл-10, 3х240 кв.мм., L=1410м. | I4: 1) Нет однолинейной схемы | M4: 1) Нет однолинейной схемы
I5: 1 | J5: Кабельная линия, 2КЛ-10 кВ., ААБл-10, 3х240 кв.мм., L=1410м. | M5: 2КЛ-10кВ АСБл 2(3*240мм2) от 2КТП по ул.Шумана 2 до 2БКТП №2103п
C6: =C4+1 -> 2 | D6: Кабельная линия, 2КЛ-10 кВ., ААБл-10, 3х240 кв.мм., L=2100м. | M6: 2КЛ-0,4 АВБбШв 4х120 L=375х2м (ТП-3106)
C7: =C5+1 -> 1 | D7: КЛ-0,4 кВ (коттеджи) от БКТП № 2108п до ВРУ коттеджей по ул Гамбургской | I7: =I5+1 -> 2 | J7: Кабельная линия, 2КЛ-10 кВ., ААБл-10, 3х240 кв.мм., L=2100м. | M7: КЛ 10 кВ З-2-113-БРТП-1974п, КЛ-10 кВ З-2-114-БРТП-1974п, ЖК Академический
C8: =C6+1 -> 3 | D8: КЛ-0,4 кВ (коттеджи) от БКТП № 2106п до ВРУ коттеджей по ул Ганноверской, выполненная кабелем АВБбШвнг-4х185 кв.мм., L=5608м | I8: =I7+1 -> 3 | J8: КЛ-0,4 кВ (коттеджи) от БКТП № 2108п до ВРУ коттеджей по ул Гамбургской | M8: 2КЛ-10 кВ от 2БРТП №3516п до точки врезки в КЛ-10 кВ , питающей 2КТП №ЕС-5, кабель АСБл-10, сечение 3*240 мм2
C9: =C7+1 -> 2 | D9: КЛ-0,4 кВ (коттеджи) от БКТП № 2106п до ВРУ коттеджей по ул Потсдамской, выполненная кабелем АВБбШвнг-4х185 кв.мм., L=6340м | I9: =I8+1 -> 4 | J9: КЛ-0,4 кВ (коттеджи) от БКТП № 2106п до ВРУ коттеджей по ул Ганноверской, выполненная кабелем АВБбШвнг-4х185 кв.мм., L=5608м | M9: 2КЛ-10 кВ от 2БРТП №3516п до РП №050, кабель АСБл-10, сечение 3*240 мм2
C10: =C8+1 -> 4 | D10: Кабельная линия, 2КЛ-10 кВ., ААБл-10, 3х240 кв.мм., L=760м. | I10: 2 | J10: КЛ-0,4 кВ (коттеджи) от БКТП № 2106п до ВРУ коттеджей по ул Потсдамской, выполненная кабелем АВБбШвнг-4х185 кв.мм., L=6340м | M10: 2БКТП-6/0,4 № 3310n/2x1б00кВА (ТП-3310п)
C11: =C9+1 -> 3 | D11: Кабельная линия, КЛ-0,4 кВ., АВБбШвнг-4х185 кв.мм., L=1720м. | I11: 4 | J11: Кабельная линия, 2КЛ-10 кВ., ААБл-10, 3х240 кв.мм., L=760м. | M11: КЛ-6кВ (луч А) АСБл, сечением 3 х 240 мм2 от 2БКТП-б/0 4 № 3009п до 2БКТП-6/0,4 N 3310п
C12: =C10+1 -> 5 | D12: Кабельная линия, 2КЛ-10 кВ., ААБл-10, 3х240 кв.мм., L=1470м. | I12: 3 | J12: Кабельная линия, КЛ-0,4 кВ., АВБбШвнг-4х185 кв.мм., L=1720м. | M12: КЛ-6кВ (луч Б) АСБл, сечением 3 х 240 мм2 от 2БКТП-б/0 4 № 3009п до 2БКТП-6/0,4 N 3310п
C13: =C11+1 -> 4 | D13: КЛ 0,4 кВ (коттеджи) от БКТП № 2107п до ВРУ коттеджей по ул Берлинской | I13: 5 | J13: Кабельная линия, 2КЛ-10 кВ., ААБл-10, 3х240 кв.мм., L=1470м. | M13: 2КЛ-0,4 кВ ВВГнг(А)-LЅ, сечением 2(4*240) мм2 on PY-0,4 кВ ТП-3310п дo BPY-1 Литер 1
C14: =C12+1 -> 6 | D14: КЛ-0,4 кВ (коттеджи) от БКТП № 2107п до ВРУ коттеджей по ул Мюнхенской, выполненная кабелем АВБбШвнг-4х185 кв.мм., | I14: 4 | J14: КЛ 0,4 кВ (коттеджи) от БКТП № 2107п до ВРУ коттеджей по ул Берлинской | M14: 2КЛ-0,4 кВ ВВГнг(А)-LЅ, сечением 2(4*240) мм2 on PY-0,4 кВ ТП-3310п дo BPY-2 Литер 1
C15: =C13+1 -> 5 | D15: Кабельная линия, 4КЛ-0,4 кВ., АВБбШвнг-4х185 кв.мм., L=5514м. | I15: 6 | J15: КЛ-0,4 кВ (коттеджи) от БКТП № 2107п до ВРУ коттеджей по ул Мюнхенской, выполненная кабелем АВБбШвнг-4х185 кв.мм., | M15: 2КЛ-0,4 кВ ВВГнг(А)-LЅ, сечением 2(4*240) мм2 on PY-0,4 кВ ТП-3310п дo BPY-3 Литер 1
C16: =C14+1 -> 7 | D16: Кабельная линия, 2КЛ-10 кВ., ААБл-10, 3х240 кв.мм., L= 425м. | I16: 5 | J16: Кабельная линия, 4КЛ-0,4 кВ., АВБбШвнг-4х185 кв.мм., L=5514м. | M16: 2КЛ-0,4 кВ ВВГнг(А)-LЅ, сечением (4*95) мм2 on PY-0,4 кВ ТП-3310п дo BY-1 Коммерция
C17: =C15+1 -> 6 | D17: Кабельная линия, 2КЛ-10 кВ., одножильная с изоляцией из сшитого полиэлитена с алюминевой жилой. Тип/марка: NA2XS(F)2Y, 500 кв.мм. L= 27 960 м | I17: 7 | J17: Кабельная линия, 2КЛ-10 кВ., ААБл-10, 3х240 кв.мм., L= 425м. | M17: 2КЛ-0,4 кВ ВВГнг(А)-LЅ, сечением (4*95) мм2 on PY-0,4 кВ ТП-3310п дo BY-2 Коммерция
C18: =C16+1 -> 8 | D18: КЛ 0,4 кВ АВБбШв4*25мм2 длиной 1069м | I18: 6 | J18: Кабельная линия, 2КЛ-10 кВ., одножильная с изоляцией из сшитого полиэлитена с алюминевой жилой. Тип/марка: NA2XS(F)2Y, 500 кв.мм. L= 27 960 м | M18: 2КЛ-0,4 кВ ВВГнг(А)-LЅ, сечением (4*95) мм2 on PY-0,4 кВ ТП-3310п дo BY-3 Коммерция
C19: =C17+1 -> 7 | D19: КЛ 0,4 кВ 4х120 мм2 от ТП-2431п до кот.общей протяж. 320м | I19: 8 | J19: КЛ 0,4 кВ АВБбШв4*25мм2 длиной 1069м | M19: 2КЛ-0,4 кВ ВВГнг(А)-LЅ, сечением 2(4*240) мм2 on PY-0,4 кВ ТП-3310п дo BY-1 Литер 3 автостоянка
C20: =C18+1 -> 9 | D20: КЛ 10 кВ 3х120 мм2 БКТП2430п-ТП2431п ЖК "Казанский", ул. Восточная | I20: 7 | J20: КЛ 0,4 кВ 4х120 мм2 от ТП-2431п до кот.общей протяж. 320м | M20: Закрытая ТП-10/0,4 кВ №3162п/2*1250 кВа
C21: =C19+1 -> 8 | D21: 4КЛ-10 АСБл 3*240 мм от врезки в КЛ 10кВ между БРТП 2103п БКТП 2108п до 2КТП-2431п | I21: 9 | J21: КЛ 10 кВ 3х120 мм2 БКТП2430п-ТП2431п ЖК "Казанский", ул. Восточная | M21: КЛ-10 кВ, АСБл-10 (3х240 кв.мм.), от муфты №2 на 2КЛ-10 кВ. (АПвПу-10 (3х500 кв.мм.), до 2 сш РУ-10 кВ ЗТП-10/0,4 кВ № 3162п/2х1250 кВА.
